Workbook

Sheet Program Metrics
A2: Opportunity Works - Program Data Tracker
C4: Partner Agency:
C5: Contact Name:
C6: Phone:
C7: Email:
B9: OPPORTUNITY WORKS: Program Metrics | D9: Round 4
B11: Required Metrics | D11: Contract Goal: | E11: Results To Date:
B12: Number of youth enrolled into program | C12: TOTAL SERVED: | D12: 40 | E12: 0
B13: Number of youth that participate in foundational skills training. | C13: TOTAL #: | D13: 40 | E13: ='Participant Detail OPWARPA'!G69 -> 0
C14: % of TOTAL SERVED | D14: 1 | E14: =E13/E12 -> #DIV/0!
B15: Number of youth that participate in career exploration | C15: TOTAL #: | D15: 40 | E15: ='Participant Detail OPWARPA'!I69 -> 0
C16: % of TOTAL SERVED | D16: 1 | E16: =E15/E12 -> #DIV/0!
B17: Number of youth that participate in Digital Literacy | C17: TOTAL #: | D17: 0.4 | E17: 0
C18: % of TOTAL SERVED | D18: 1 | E18: =E17/E12 -> #DIV/0!
B19: Number of youth that participate in an internship | C19: TOTAL #: | D19: 32 | E19: 0
C20: % of TOTAL SERVED | D20: 0.8 | E20: =E19/E12 -> #DIV/0!
B21: Number of youth that complete an internship | C21: TOTAL #: | D21: 29 | E21: 0
C22: % of TOTAL SERVED | D22: 0.72 | E22: =E21/E12 -> #DIV/0!
B23: Number of youth that have a successful post program transition(enrolled within 6 months of program start) | C23: TOTAL #: | D23: 30 | E23: ='Participant Detail OPWARPA'!O69 -> 0
B24: subcategory: workforce program | D24: NA | E24: ='Participant Detail OPWARPA'!Q69 -> 0
B25: subcategory: post-secondary training/education | D25: NA | E25: 0
B26: subcategory: unsubsidized employment | D26: NA | E26: 0
B27: subcategory: other | D27: NA | E27: ='Participant Detail OPWARPA'!T69 -> 0
C28: % of TOTAL SERVED | D28: 0.75 | E28: =E23/E12 -> #DIV/0!
B31: # TDL Positions
B33: Number of Businesses hosting interns this round
B34: Number of host site agreements signed (cumulative)
B35: Number of participants who have left the program and are no longer receiving services (round 4)

Sheet Participant Detail OPW
A1: Opportunity Works Program Data Tracker
A2: Career Connect Log and Participant Detail Report
B4: Enter All Program Participants that are enrolled in career connect. Complete columns marked with "(1/0)" by entering '1' for Yes and '0' for No
B6: Slot | C6: Youth Name | E6: Date Enrolled | F6: Cohort Start Date | G6: Foundational Skills Training | I6: Career Exploration | J6: Internship | N6: Clear Referral | O6: Post Program Transition | V6: Additional Info:
B7: # | C7: Last name | D7: First Name | E7: mm/dd/yy | F7: mm/dd/yy | G7: Began (1/0) | H7: Completed (1/0) | I7: Participated (1/0) | J7: Began (1/0) | K7: Completed (1/0) | L7: # of Internship Sites | N7: (1/0) | O7: Successful (1/0) | Q7: Workforce Program (1/0) | R7: Post Secondary (1/0) | S7: Unsubsidized Employment (1/0) | T7: Other (1/0) | V7: Notes:
B8: 1 | R8: 1 | S8: 1
B9: 2
B10: 3
B11: 4
B12: 5
B13: 6
B14: 7
B15: 8
B16: 9
B17: 10
B18: 11
B19: 12
B20: 13
... B67: 60
F69: Totals: | G69: =SUM(G8:G67) -> 0 | H69: =SUM(H8:H67) -> 0 | I69: =SUM(I8:I67) -> 0 | J69: =SUM(J8:J67) -> 0 | K69: =SUM(K8:K67) -> 0 | L69: =SUM(L8:L67) -> 0 | M69: =SUM(M8:M67) -> 0 | N69: =SUM(N8:N67) -> 0 | O69: =SUM(O8:O67) -> 0 | Q69: =SUM(Q8:Q67) -> 0 | R69: =SUM(R8:R67) -> 1 | S69: =SUM(S8:S67) -> 1 | T69: =SUM(T8:T67) -> 0
F70: Percent: | G70: =G69/B69 -> #DIV/0! | H70: =H69/B69 -> #DIV/0! | I70: =I69/B69 -> #DIV/0! | J70: =J69/B69 -> #DIV/0! | K70: =K69/J69 -> #DIV/0! | N70: =N69/J69 -> #DIV/0! | O70: =O69/B69 -> #DIV/0!
G71: Began (1/0) | H71: Completed (1/0) | I71: Participated (1/0) | J71: Began (1/0) | K71: Completed (1/0) | L71: # of Internship Sites | N71: (1/0) | O71: Successful (1/0) | Q71: Workforce Program (1/0) | R71: Post Secondary (1/0) | S71: Unsubsidized Employment (1/0) | T71: Other (1/0)
G72: Foundational Skills Training | I72: Career Exploration | J72: Internship | N72: Clear Referral | O72: Post Program Transition

Sheet Participant Detail OPS
A1: Opportunity Works Summer Program Data Tracker
A2: Career Connect Log and Participant Detail Report
B4: Enter All Program Participants that are enrolled in career connect. Complete columns marked with "(1/0)" by entering '1' for Yes and '0' for No
B6: Slot | C6: Youth Name | E6: Date Enrolled | F6: Cohort Date | G6: Foundational Skills Training | I6: Career Exploration | J6: Internship | N6: Clear Referral | O6: Post Program Transition | V6: Additional Info:
B7: # | C7: Last name | D7: First Name | E7: mm/dd/yy | F7: mm/dd/yy | G7: Began (1/0) | H7: Completed (1/0) | I7: Participated (1/0) | J7: Began (1/0) | K7: Completed (1/0) | L7: # of Internship Sites | N7: (1/0) | O7: Successful (1/0) | Q7: Workforce Program (1/0) | R7: Post Secondary (1/0) | S7: Unsubsidized Employment (1/0) | T7: Other (1/0) | V7: Notes:
B8: 1 | R8: 1 | S8: 1
B9: 2
B10: 3
B11: 4
B12: 5
B13: 6
B14: 7
B15: 8
B16: 9
B17: 10
B18: 11
B19: 12
B20: 13
... B67: 60
F69: Totals: | G69: =SUM(G8:G67) -> 0 | H69: =SUM(H8:H67) -> 0 | I69: =SUM(I8:I67) -> 0 | J69: =SUM(J8:J67) -> 0 | K69: =SUM(K8:K67) -> 0 | L69: =SUM(L8:L67) -> 0 | M69: =SUM(M8:M67) -> 0 | N69: =SUM(N8:N67) -> 0 | O69: =SUM(O8:O67) -> 0 | Q69: =SUM(Q8:Q67) -> 0 | R69: =SUM(R8:R67) -> 1 | S69: =SUM(S8:S67) -> 1 | T69: =SUM(T8:T67) -> 0
F70: Percent: | G70: =G69/B69 -> #DIV/0! | H70: =H69/B69 -> #DIV/0! | I70: =I69/B69 -> #DIV/0! | J70: =J69/B69 -> #DIV/0! | K70: =K69/J69 -> #DIV/0! | N70: =N69/J69 -> #DIV/0! | O70: =O69/B69 -> #DIV/0!
G71: Began (1/0) | H71: Completed (1/0) | I71: Participated (1/0) | J71: Began (1/0) | K71: Completed (1/0) | L71: # of Internship Sites | N71: (1/0) | O71: Successful (1/0) | Q71: Workforce Program (1/0) | R71: Post Secondary (1/0) | S71: Unsubsidized Employment (1/0) | T71: Other (1/0)
G72: Foundational Skills Training | I72: Career Exploration | J72: Internship | N72: Clear Referral | O72: Post Program Transition

Sheet Participant Detail OPWARPA
A1: Opportunity Works ARPA Program Data Tracker
A2: Career Connect Log and Participant Detail Report
B4: Enter All Program Participants that are enrolled in career connect. Complete columns marked with "(1/0)" by entering '1' for Yes and '0' for No
B6: Slot | C6: Youth Name | E6: Date Enrolled | F6: Cohort Date | G6: Foundational Skills Training | I6: Career Exploration | J6: Internship | N6: Clear Referral | O6: Post Program Transition | V6: Additional Info:
B7: # | C7: Last name | D7: First Name | E7: mm/dd/yy | F7: mm/dd/yy | G7: Began (1/0) | H7: Completed (1/0) | I7: Participated (1/0) | J7: Began (1/0) | K7: Completed (1/0) | L7: # of Internship Sites | N7: (1/0) | O7: Successful (1/0) | Q7: Workforce Program (1/0) | R7: Post Secondary (1/0) | S7: Unsubsidized Employment (1/0) | T7: Other (1/0) | V7: Notes:
B8: 1 | R8: 1 | S8: 1
B9: 2
B10: 3
B11: 4
B12: 5
B13: 6
B14: 7
B15: 8
B16: 9
B17: 10
B18: 11
B19: 12
B20: 13
... B67: 60
F69: Totals: | G69: =SUM(G8:G67) -> 0 | H69: =SUM(H8:H67) -> 0 | I69: =SUM(I8:I67) -> 0 | J69: =SUM(J8:J67) -> 0 | K69: =SUM(K8:K67) -> 0 | L69: =SUM(L8:L67) -> 0 | M69: =SUM(M8:M67) -> 0 | N69: =SUM(N8:N67) -> 0 | O69: =SUM(O8:O67) -> 0 | Q69: =SUM(Q8:Q67) -> 0 | R69: =SUM(R8:R67) -> 1 | S69: =SUM(S8:S67) -> 1 | T69: =SUM(T8:T67) -> 0
F70: Percent: | G70: =G69/B69 -> #DIV/0! | H70: =H69/B69 -> #DIV/0! | I70: =I69/B69 -> #DIV/0! | J70: =J69/B69 -> #DIV/0! | K70: =K69/J69 -> #DIV/0! | N70: =N69/J69 -> #DIV/0! | O70: =O69/B69 -> #DIV/0!
G71: Began (1/0) | H71: Completed (1/0) | I71: Participated (1/0) | J71: Began (1/0) | K71: Completed (1/0) | L71: # of Internship Sites | N71: (1/0) | O71: Successful (1/0) | Q71: Workforce Program (1/0) | R71: Post Secondary (1/0) | S71: Unsubsidized Employment (1/0) | T71: Other (1/0)
G72: Foundational Skills Training | I72: Career Exploration | J72: Internship | N72: Clear Referral | O72: Post Program Transition

Sheet Placement Detail
A1: Opportunity Works Program Data Tracker
A2: Internship Placement Detail Report
A4: Complete this form for all Internship Host Sites on an ongoing basis; do not remove businesses if they are no longer hosting interns.
B6: Sector | C6: Business Name | D6: FEIN | E6: Address | F6: City | G6: ZIP | H6: Primary Contact Person | I6: Phone | J6: Email | K6: Name of Supervisor | L6: Supervisor Contact Info | M6: # Previous Interns | N6: # Interns Round 4 | O6: Notes:
